BEGIN:VCALENDAR
VERSION:2.0
PRODID:-//NADI Pekan Belaga - ECPv6.15.20//NONSGML v1.0//EN
CALSCALE:GREGORIAN
METHOD:PUBLISH
X-WR-CALNAME:NADI Pekan Belaga
X-ORIGINAL-URL:https://pekanbelaga.nadi.my
X-WR-CALDESC:Events for NADI Pekan Belaga
REFRESH-INTERVAL;VALUE=DURATION:PT1H
X-Robots-Tag:noindex
X-PUBLISHED-TTL:PT1H
BEGIN:VTIMEZONE
TZID:Asia/Kuala_Lumpur
BEGIN:STANDARD
TZOFFSETFROM:+0800
TZOFFSETTO:+0800
TZNAME:+08
DTSTART:20240101T000000
END:STANDARD
END:VTIMEZONE
BEGIN:VEVENT
DTSTART;TZID=Asia/Kuala_Lumpur:20260417T080000
DTEND;TZID=Asia/Kuala_Lumpur:20260423T170000
DTSTAMP:20260424T095732
CREATED:20260417T022856Z
LAST-MODIFIED:20260417T022856Z
UID:12615-1776412800-1776963600@pekanbelaga.nadi.my
SUMMARY:CYBERSECURITY
DESCRIPTION:🚨 Tahukah anda akaun media sosial boleh digodam? 😱 \nJangan ambil ringan keselamatan digital anda! Sertai Webinar NADI x Cybersecurity untuk mengetahui bagaimana akaun media sosial anda boleh digodam serta langkah-langkah melindunginya. 🔐 \n📅 Tarikh: 23 April 2026\n⏰ Masa: 3.00 petang – 4.30 petang\n📍 Tempat: NADI Pekan Belaga (LMS Cybersecurity) \n👨‍👩‍👧 Terbuka kepada belia\, ibu bapa & dewasa\n✅ Syarat: Ahli NADI & mempunyai akaun LMS Cybersecurity\n💡 Lindungi diri anda sebelum terlambat! Ilmu ini penting untuk keselamatan digital anda dan keluarga. \n📞 Sebarang pertanyaan & pendaftaran:\nAdmin NADI Pekan Belaga – 011-6293 6067 \n#Cybersecurity #KeselamatanSiber #Belaga #JomBelajar \n 
URL:https://pekanbelaga.nadi.my/event/cybersecurity/
END:VEVENT
BEGIN:VEVENT
DTSTART;TZID=Asia/Kuala_Lumpur:20260417T080000
DTEND;TZID=Asia/Kuala_Lumpur:20260422T170000
DTSTAMP:20260424T095732
CREATED:20260417T022333Z
LAST-MODIFIED:20260417T022333Z
UID:12603-1776412800-1776877200@pekanbelaga.nadi.my
SUMMARY:SLS Mahir Jahit
DESCRIPTION:✨ Jom Sertai Kelas SLS Mahir Jahit Bersama NADI Mahir! ✨ \n🧵 Kelas 1: Pouch Bag Comel bersama Cikgu Wawa \nNak belajar jahit dari asas? Ini peluang anda!\n🎯 Apa yang anda akan dapat:\n👜 Belajar step-by-step jahit pouch bag comel\n👍 Sesuai untuk beginner\n💰 Boleh jana income tambahan dengan hasil jahitan sendiri \n📅 22 April 2026 (Rabu)\n⏰ 11.15 pagi – 12.00 tengah hari\n🔗 https://www.youtube.com/live/k7D6HVmBwws \n🧵 Kelas 2: Coaster Fabrik Handmade bersama Cikgu Sue \nJom hasilkan coaster kain yang cantik & praktikal! ☕🌸\n🎯 Apa yang anda akan pelajari:\n✂️ Teknik asas menjahit coaster fabrik\n🪡 Cara potong & gabungkan kain dengan kemas\n💰 Sesuai untuk beginner & boleh jana income \n📅 22 April 2026 (Rabu)\n⏰ 12.05 – 12.50 tengah hari\n🔗 https://www.youtube.com/live/-Bgv_Y1avmY \n📢 Bertempat di NADI Pekan Belaga\n📞 Sebarang pertanyaan\, hubungi Admin: 011-6293 6067 \n💫 Jangan lepaskan peluang untuk tambah skill & jana pendapatan! \n  \n     
URL:https://pekanbelaga.nadi.my/event/sls-mahir-jahit/
END:VEVENT
BEGIN:VEVENT
DTSTART;TZID=Asia/Kuala_Lumpur:20260417T080000
DTEND;TZID=Asia/Kuala_Lumpur:20260418T170000
DTSTAMP:20260424T095732
CREATED:20260417T023120Z
LAST-MODIFIED:20260417T023120Z
UID:12619-1776412800-1776531600@pekanbelaga.nadi.my
SUMMARY:WEBINAR BERKALA BAHASA MELAYU
DESCRIPTION:📢 WEBINAR BERKALA BAHASA MELAYU – EDISI 6 📢 \nHello pelajar Tingkatan 4 hingga 5! 🌟 \nAdakah anda masih keliru tentang tatabahasa (morfologi dan sintaksis) serta cara menulis karangan yang mantap dan berkesan? Tak pasti bagaimana hendak menyusun ayat dengan betul dan menghasilkan karangan yang berkualiti tinggi? \nJangan risau! Jom sertai Webinar Berkala Bahasa Melayu – Edisi 6 yang akan membantu anda menguasai tatabahasa dan teknik penulisan karangan dengan lebih mudah\, jelas dan berkesan! 📝✨ \n🗓️ Tarikh: 18 April 2026 (Sabtu)\n🕞 Masa: 2.30 PM – 4.30 PM\n📍 Tempat: NADI PEKAN BELAGA\n👥 Sasaran: Pelajar Tingkatan 4 hingga 5 \n🎯 Topik:\nMorfologi dan Sintaksis (Tatabahasa)\nTeknik Penulisan Karangan \nSesi pembelajaran yang padat dan mudah difahami merangkumi penerangan asas tatabahasa\, pembinaan ayat yang betul\, teknik menyusun isi karangan\, contoh karangan menarik serta tip penting untuk membantu anda menulis dengan lebih yakin dan cemerlang! 💡📘 \n📞 Daftar sekarang – NADI Pekan Belaga\, 011-6293 6067 \n 
URL:https://pekanbelaga.nadi.my/event/webinar-berkala-bahasa-melayu/
END:VEVENT
BEGIN:VEVENT
DTSTART;TZID=Asia/Kuala_Lumpur:20260417T080000
DTEND;TZID=Asia/Kuala_Lumpur:20260418T170000
DTSTAMP:20260424T095732
CREATED:20260417T022621Z
LAST-MODIFIED:20260417T022621Z
UID:12606-1776412800-1776531600@pekanbelaga.nadi.my
SUMMARY:TINY TECHIES
DESCRIPTION:🚀 Jom Sertai Program Digital NADI Pekan Belaga! 💻✨ \nIngin kuasai teknologi & tambah kemahiran masa depan? Jangan lepaskan peluang untuk sertai kelas menarik ini! 👇 \n🤖 Robotic Innovation Siri 1\nPengenalan kepada robotik & inovasi melalui projek hands-on menggunakan komponen elektronik secara interaktif\n📅 18 April 2026 (Sabtu)\n⏰ 9.30 pagi – 10.30 pagi\n📍 Platform: NADI Book \n🎨 Python in Animation Siri 1\nBelajar asas pengaturcaraan Python dengan menghasilkan animasi yang menarik & interaktif secara mudah\n📅 18 April 2026 (Sabtu)\n⏰ 11.00 pagi – 12.00 tengah hari\n📍 Platform: NADI Book \n🌟 Kelebihan Program:\n✅ Kelas atas talian & siaran langsung\n✅ Percuma untuk semua Ahli Berdaftar NADI\n✅ Modul pembelajaran disediakan\n✅ Dikendalikan oleh guru berpengalaman\n✅ Boleh bertanya soalan secara langsung \n📌 Syarat Penyertaan:\n✔️ Berdaftar sebagai Ahli NADI\n📢 Bertempat di NADI Pekan Belaga\n📞 Sebarang pertanyaan\, hubungi Admin: 011-6293 6067 \n💡 Jom tambah ilmu\, tingkatkan kemahiran & teroka dunia digital bersama NADI! Jumpa anda nanti 😉🚀 \n  \n     
URL:https://pekanbelaga.nadi.my/event/tiny-techies-2/
END:VEVENT
BEGIN:VEVENT
DTSTART;TZID=Asia/Kuala_Lumpur:20260410T080000
DTEND;TZID=Asia/Kuala_Lumpur:20260421T170000
DTSTAMP:20260424T095732
CREATED:20260410T020534Z
LAST-MODIFIED:20260410T020551Z
UID:12598-1775808000-1776790800@pekanbelaga.nadi.my
SUMMARY:NADI KEUSAHAWANAN
DESCRIPTION:🚀 JOM SERTAI WEBINAR PEMASARAN DIGITAL eKelas Usahawan! \nIngin tingkatkan kemahiran pemasaran online dan jana pendapatan secara digital? Jangan lepaskan peluang untuk sertai siri webinar eksklusif ini! \n📌 Modul 1: Strategi Pemasaran Digital\n🗓 Tarikh: Isnin\, 20 April 2026\n⏰ Masa: 10:00 pagi – 11:00 pagi\n💻 Lokasi: Zoom\n🔗 Daftar: bit.ly/eku200426am \n📌 Modul 2: Asas Visual Komunikasi\n🗓 Tarikh: Isnin\, 20 April 2026\n⏰ Masa: 2:00 petang – 3:00 petang\n💻 Lokasi: Zoom\n🔗 Daftar: bit.ly/eku200426pm \n📌 Modul 3: AI untuk Mencipta Kandungan\n🗓 Tarikh: Selasa\, 21 April 2026\n⏰ Masa: 10:00 pagi – 11:00 pagi\n💻 Lokasi: Zoom\n🔗 Daftar: bit.ly/eku210426am \n🔥 Tempat adalah terhad! Daftar sekarang dan tingkatkan kemahiran digital anda! \n📞 Sebarang pertanyaan\, hubungi Admin NADI Pekan Belaga:\n011-6293 6067 \n  \n   
URL:https://pekanbelaga.nadi.my/event/nadi-keusahawanan/
END:VEVENT
BEGIN:VEVENT
DTSTART;TZID=Asia/Kuala_Lumpur:20260404T080000
DTEND;TZID=Asia/Kuala_Lumpur:20260419T170000
DTSTAMP:20260424T095732
CREATED:20260404T022735Z
LAST-MODIFIED:20260404T022735Z
UID:12577-1775289600-1776618000@pekanbelaga.nadi.my
SUMMARY:NADI E-SUKAN
DESCRIPTION:🎮 PROGRAM NADI E-SUKAN KINI KEMBALI! 🎮 \nJom sertai siri latihan E-Sukan yang menarik dan bermanfaat khas untuk anda! 💥 \n📌 Modul 10: Komunikasi Dalam Pasukan E-Sukan\n🗓 3 – 5 April 2026 \n📌 Modul 11: Pengurusan Konflik dalam Pasukan E-Sukan\n🗓 10 – 12 April 2026 \n📌 Modul 12: Teamwork & Peranan dalam Pasukan E-Sukan\n🗓 17 – 19 April 2026 \n📍 Lokasi: NADI Pekan Belaga \n✨ Tingkatkan kemahiran komunikasi\, bina semangat berpasukan dan belajar cara mengurus konflik seperti pemain profesional! \n📞 Sebarang pertanyaan & pendaftaran:\nAdmin NADI Pekan Belaga\n011-62936067 \n  \n         
URL:https://pekanbelaga.nadi.my/event/nadi-e-sukan-2/
END:VEVENT
BEGIN:VEVENT
DTSTART;TZID=Asia/Kuala_Lumpur:20260404T080000
DTEND;TZID=Asia/Kuala_Lumpur:20260409T170000
DTSTAMP:20260424T095732
CREATED:20260404T022903Z
LAST-MODIFIED:20260404T024328Z
UID:12579-1775289600-1775754000@pekanbelaga.nadi.my
SUMMARY:NADI x CYBERSECURITY
DESCRIPTION:🔴 LIVE WEBINAR NADI x CYBERSECURITY\nIngin tahu cara melindungi CCTV dan WiFi rumah daripada digodam? 🔐 \nJom sertai webinar ini untuk belajar langkah keselamatan yang mudah tetapi berkesan! \n📅 Tarikh: 09 April 2026\n⏰ Masa: 3.00 PM – 4.30 PM\n💻 Platform: LMS Cybersecurity\n👥 Terbuka kepada: Ibu bapa & dewasa \n✅ Syarat penyertaan:\n✔️ Ahli NADI berdaftar\n✔️ Mempunyai akaun LMS Cybersecurity \n📌 Tempat adalah terhad! Jangan lepaskan peluang untuk tingkatkan keselamatan digital anda dan keluarga. \n📞 Sebarang pertanyaan / pendaftaran:\nAdmin NADI Pekan Belaga (011-62936067) \n 
URL:https://pekanbelaga.nadi.my/event/nadi-x-cybersecurity-4/
END:VEVENT
BEGIN:VEVENT
DTSTART;TZID=Asia/Kuala_Lumpur:20260301T080000
DTEND;TZID=Asia/Kuala_Lumpur:20260306T170000
DTSTAMP:20260424T095732
CREATED:20260301T071311Z
LAST-MODIFIED:20260301T071311Z
UID:12484-1772352000-1772816400@pekanbelaga.nadi.my
SUMMARY:MAHIR MASAK: Portuguese Egg Tart
DESCRIPTION:👨‍🍳✨ MAHIR MASAK: Portuguese Egg Tart ✨ \nIngin belajar menyediakan Portuguese Egg Tart yang rangup di luar dan lembut berkrim di dalam? Jom sertai kelas khas ini dan pelajari teknik penyediaan yang betul – sesuai untuk hidangan iftar dan jamuan rumah terbuka Raya! \n🗓 06 Mac 2026 (Jumaat)\n⏰ 9:30 pagi – 11:00 pagi\n📍 NADI Pekan Belaga \nTempat terhad\, daftar segera dan tambah kemahiran masakan anda bersama NADI! \n📞 Admin NADI Pekan Belaga: 011-62936067
URL:https://pekanbelaga.nadi.my/event/mahir-masak-portuguese-egg-tart/
END:VEVENT
BEGIN:VEVENT
DTSTART;TZID=Asia/Kuala_Lumpur:20260301T080000
DTEND;TZID=Asia/Kuala_Lumpur:20260305T170000
DTSTAMP:20260424T095732
CREATED:20260301T070957Z
LAST-MODIFIED:20260301T071220Z
UID:12479-1772352000-1772730000@pekanbelaga.nadi.my
SUMMARY:MAHIR JAHIT: Jom Bergaya Raya – Fashion Styling
DESCRIPTION:✨ MAHIR JAHIT: Jom Bergaya Raya – Fashion Styling ✨ \nNak tampil lebih yakin dan bergaya di Hari Raya? Sertai sesi khas bersama perunding imej Wawa Idris untuk pelajari asas fashion styling\, tip memilih padanan pakaian\, warna dan gaya yang sesuai dengan personaliti anda. \n🗓 05 Mac 2026 (Khamis)\n⏰ 11:30 pagi – 12:30 tengah hari\n📍 NADI Pekan Belaga \nTempat terhad! Jangan lepaskan peluang untuk tambah ilmu dan serlahkan gaya raya anda. 💜 \n📞 Admin NADI Pekan Belaga: 011-62936067 \n 
URL:https://pekanbelaga.nadi.my/event/mahir-jahit-jom-bergaya-raya-fashion-styling/
END:VEVENT
BEGIN:VEVENT
DTSTART;TZID=Asia/Kuala_Lumpur:20260301T080000
DTEND;TZID=Asia/Kuala_Lumpur:20260303T170000
DTSTAMP:20260424T095732
CREATED:20260301T070518Z
LAST-MODIFIED:20260301T070612Z
UID:12474-1772352000-1772557200@pekanbelaga.nadi.my
SUMMARY:📸 MAHIR FOTO: Studio Lighting Dalam Fotografi
DESCRIPTION:📸 MAHIR FOTO: Studio Lighting Dalam Fotografi \nIngin hasil gambar lebih profesional dan menarik? Jom sertai sesi latihan ini untuk kuasai asas pencahayaan studio serta teknik & tip fotografi potret\, makanan dan produk – sesuai untuk promosi jualan Ramadhan/Raya anda! \n🗓 03 Mac 2026 (Selasa)\n⏰ 9:30 pagi – 11:30 pagi\n📍 NADI Pekan Belaga \nTempat adalah terhad! Daftar segera dan tingkatkan kemahiran fotografi anda bersama kami. \n📞 Admin NADI Pekan Belaga: 011-62936067 \n 
URL:https://pekanbelaga.nadi.my/event/%f0%9f%93%b8-mahir-foto-studio-lighting-dalam-fotografi/
END:VEVENT
BEGIN:VEVENT
DTSTART;TZID=Asia/Kuala_Lumpur:20260225T080000
DTEND;TZID=Asia/Kuala_Lumpur:20260228T170000
DTSTAMP:20260424T095732
CREATED:20260225T075235Z
LAST-MODIFIED:20260225T075337Z
UID:12450-1772006400-1772298000@pekanbelaga.nadi.my
SUMMARY:✨ Ihya Ramadan: Jom Mengaji @ NADI ✨
DESCRIPTION:✨ Ihya Ramadan: Jom Mengaji @ NADI ✨ \nSempena bulan Ramadan yang penuh keberkatan\, ayuh bersama-sama mengimarahkan malam dengan sesi tadarus Al-Quran dan penguasaan tajwid bersama Ustaz Azam Din (Ustaz Tajwid). \n📅 28 Februari 2026 (Sabtu)\n⏰ 9.30 pagi – 10.30 pagi\n📍 NADI Pekan Belaga \nSesi santai tetapi penuh manfaat\, disertai tazkirah ringkas untuk menambah ilmu dan keberkatan Ramadan anda. 🌙📖 \nJom hadir beramai-ramai dan ajak keluarga serta rakan-rakan! \n📲 Sebarang pertanyaan\, hubungi Admin NADI Pekan Belaga:011-62936067 \n 
URL:https://pekanbelaga.nadi.my/event/%e2%9c%a8-ihya-ramadan-jom-mengaji-nadi-%e2%9c%a8/
END:VEVENT
BEGIN:VEVENT
DTSTART;TZID=Asia/Kuala_Lumpur:20260225T080000
DTEND;TZID=Asia/Kuala_Lumpur:20260226T170000
DTSTAMP:20260424T095732
CREATED:20260225T075007Z
LAST-MODIFIED:20260225T075007Z
UID:12445-1772006400-1772125200@pekanbelaga.nadi.my
SUMMARY:NADI X MAHIR
DESCRIPTION:Jom sertai program Mahir Masak Edisi Ramadan bersama Chef Florence Tan! 👩🏻‍🍳✨ \n📅 26 Februari 2026 (Khamis)\n⏰ 11.30 pagi hingga 12.30 tengah hari \nPelajari rahsia penyediaan menu istimewa Ramadan:\n🍤 Udang Masak Lemak Nanas\n🍪 Biskut Bijan Rangup \nJangan lepaskan peluang untuk menimba ilmu masakan dan menambah kemahiran di dapur anda! \n📍 Kunjungi NADI Pekan Belaga\n📞 Sebarang pertanyaan\, hubungi Admin NADI Pekan Belaga: 011-62936067 \n 
URL:https://pekanbelaga.nadi.my/event/nadi-x-mahir/
END:VEVENT
BEGIN:VEVENT
DTSTART;TZID=Asia/Kuala_Lumpur:20260211T080000
DTEND;TZID=Asia/Kuala_Lumpur:20260228T170000
DTSTAMP:20260424T095732
CREATED:20260211T030528Z
LAST-MODIFIED:20260211T030542Z
UID:12418-1770796800-1772298000@pekanbelaga.nadi.my
SUMMARY:🚀 TINY TECHIES
DESCRIPTION:🚀 TINY TECHIES \n🔁 KELAS ULANGKAJI SIRI 2 (ATAS TALIAN)\n🟡 PYTHON\, HTML & SQL \nUlangkaji asas pengaturcaraan\, pembangunan web dan pangkalan data sebagai persediaan pembelajaran lanjutan. \n🗓️ 28 Februari 2026 (Sabtu)\n⏰ 10.00 pg –11.00 pg\n💻 Platform: NADIBook\n🔗 Pautan: https://nadibook.my/ \n✨ Apa yang menarik?\n✔️ Kelas ONLINE & LIVE\n✔️ PERCUMA untuk Ahli Berdaftar NADI\n✔️Modul Pembelajaran disediakan\n✔️ Dikendalikan oleh fasilitator berpengalaman\n✔️ Sesi soal jawab secara langsung \n📌 Syarat Penyertaan:\n▪️ Berdaftar sebagai Ahli NADI \n📞 Sebarang pertanyaan & pendaftaran:\nAdmin NADI Pekan Belaga – 011-6293 6067 \n#TinyTechies #AIROBOTECHIES #NADI #CelcomDigi #MCMC #KelasTeknologi \n 
URL:https://pekanbelaga.nadi.my/event/%f0%9f%9a%80-tiny-techies/
END:VEVENT
BEGIN:VEVENT
DTSTART;TZID=Asia/Kuala_Lumpur:20260211T080000
DTEND;TZID=Asia/Kuala_Lumpur:20260219T170000
DTSTAMP:20260424T095732
CREATED:20260211T030754Z
LAST-MODIFIED:20260211T030754Z
UID:12426-1770796800-1771520400@pekanbelaga.nadi.my
SUMMARY:PENUTUPAN SEMENTARA NADI
DESCRIPTION:📢 Pemaklumam Penutupan sementara NADI Pekan Belaga bersempena dengan Tahun Baru Cina pada 17 & 18 Februari 2026 (Selasa & Rabu). \n🗓️ Beroperasi semula : 19 Februari 2026 (Khamis) \n 
URL:https://pekanbelaga.nadi.my/event/penutupan-sementara-nadi/
END:VEVENT
BEGIN:VEVENT
DTSTART;TZID=Asia/Kuala_Lumpur:20260205T080000
DTEND;TZID=Asia/Kuala_Lumpur:20260207T170000
DTSTAMP:20260424T095732
CREATED:20260205T075904Z
LAST-MODIFIED:20260205T075904Z
UID:12400-1770278400-1770483600@pekanbelaga.nadi.my
SUMMARY:TINY TECHIES
DESCRIPTION:🚀 TINY TECHIES \n🔁 KELAS ULANGKAJI SIRI 2 (ATAS TALIAN)\nProgram pembelajaran teknologi untuk murid Sekolah Rendah \n🟡 Micro:bit & Robotik (Untuk Sekolah Rendah)\nUlangkaji asas pengaturcaraan dan robotik menggunakan Micro:bit secara interaktif dan menyeronokkan.\n🗓️ 7 Februari 2026 (Sabtu)\n⏰ 2.00 PM – 3.00 PM\n💻 Platform: NADIBook\n🔗 Pautan: https://nadibook.my/ \n✨ Apa yang menarik?\n✔️ Kelas ONLINE & LIVE\n✔️ PERCUMA untuk Ahli Berdaftar NADI\n✔️ Modul Pembelajaran disediakan\n✔️ Dikendalikan oleh fasilitator berpengalaman\n✔️ Sesi soal jawab secara langsung \n📌 Syarat Penyertaan:\n▪️ Berdaftar sebagai Ahli NADI \n📞 Sebarang pertanyaan & pendaftaran:\nAdmin NADI Pekan Belaga – 011-6293 6067 \nTinyTechies #AIROBOTECHIES #NADI #CelcomDigi #MCMC #KelasTeknologi \n 
URL:https://pekanbelaga.nadi.my/event/tiny-techies/
END:VEVENT
BEGIN:VEVENT
DTSTART;TZID=Asia/Kuala_Lumpur:20260204T080000
DTEND;TZID=Asia/Kuala_Lumpur:20260212T170000
DTSTAMP:20260424T095732
CREATED:20260204T023248Z
LAST-MODIFIED:20260204T023248Z
UID:12385-1770192000-1770915600@pekanbelaga.nadi.my
SUMMARY:LIVE WEBINAR NADI x CYBERSECURITY
DESCRIPTION:Sertai webinar bagi meningkatkan kesedaran keselamatan siber dengan pendedahan mengenai cara mengenal pasti fail berbahaya berbentuk virus demi melindungi peranti dan data peribadi. \n📅 12 Februari 2026\n⏰ 3.00 petang – 4.30 petang\n💻 Platform: LMS Cybersecurity\n👥 Sasaran: Pelajar\, ibu bapa dan golongan dewasa \n📞 Sebarang pertanyaan dan maklumat lanjut\, sila hubungi:\nAdmin NADI Pekan Belaga – 011-629 36067 \n 
URL:https://pekanbelaga.nadi.my/event/live-webinar-nadi-x-cybersecurity/
END:VEVENT
BEGIN:VEVENT
DTSTART;TZID=Asia/Kuala_Lumpur:20260204T080000
DTEND;TZID=Asia/Kuala_Lumpur:20260208T170000
DTSTAMP:20260424T095732
CREATED:20260204T023452Z
LAST-MODIFIED:20260204T024100Z
UID:12390-1770192000-1770570000@pekanbelaga.nadi.my
SUMMARY:VIDEO ON DEMAND - REVISION VIDEO
DESCRIPTION:📢✨ PENDAFTARAN VIDEO ON DEMAND – REVISION VIDEO SESI 27 KINI DIBUKA! \n\n\n\n✅ Video on Demand – Revision Video khas untuk anda ! 📅 Tarikh : 3-8 Februari 2026 ⏰ Waktu: Fleksibel – ikut jadual anda sendiri! \n\n\n\n🎥 Akses rakaman kelas dan boleh ulang tayang sepuas hati! \n\n\n\nRakaman yang tersedia: \n\n\n\n\nRakaman Guidance Tuition\n\n\n\nRakaman Open Tuition\n\n\n\nRakaman Webinar Pendidikan\n\n\n\n\nLangkah Penyertaan: \n\n\n\n\nLogin ke LMS DILEA\n\n\n\nMasuk ke course Revision Video\n\n\n\nTonton rakaman video\n\n\n\nTanda penyertaan pada bahagian ‘kehadiran’\n\n\n\n\n📌 Jangan lepaskan peluang! \n\n\n\n📞 Sebarang pertanyaan & pendaftaran: Admin NADI Pekan Belaga – 011-6293 6067  
URL:https://pekanbelaga.nadi.my/event/12390/
END:VEVENT
BEGIN:VEVENT
DTSTART;TZID=Asia/Kuala_Lumpur:20260117T080000
DTEND;TZID=Asia/Kuala_Lumpur:20260121T170000
DTSTAMP:20260424T095732
CREATED:20260117T021643Z
LAST-MODIFIED:20260117T021754Z
UID:12371-1768636800-1769014800@pekanbelaga.nadi.my
SUMMARY:NADI X Kesedaran
DESCRIPTION:Taklimat Pengasuhan Digital | NADI X Kesedaran \nPerkasa peranan ibu bapa dalam membimbing & melindungi anak di dunia digital.\n📅 19 & 21 Januari 2026 | ⏰ 3.00 – 4.00 petang\n🎯 Penyertaan PERCUMA \n📞 Untuk maklumat lanjut: Admin NADI Pekan Belaga – 011-62936067 \n 
URL:https://pekanbelaga.nadi.my/event/nadi-x-kesedaran-4/
END:VEVENT
BEGIN:VEVENT
DTSTART;TZID=Asia/Kuala_Lumpur:20260117T080000
DTEND;TZID=Asia/Kuala_Lumpur:20260118T170000
DTSTAMP:20260424T095732
CREATED:20260117T021825Z
LAST-MODIFIED:20260117T021825Z
UID:12377-1768636800-1768755600@pekanbelaga.nadi.my
SUMMARY:NADI E-SUKAN
DESCRIPTION:🎮Etika & Sikap Pemain E-Sukan\n📅 16–18 Januari 2026 \nPenyertaan adalah WAJIB.\n⏰ Akses kelas: 8.00 pagi – 6.00 petang \n📍 NADI Pekan Belaga📲 Admin: 011-629 36067 \n 
URL:https://pekanbelaga.nadi.my/event/nadi-e-sukan/
END:VEVENT
BEGIN:VEVENT
DTSTART;TZID=Asia/Kuala_Lumpur:20260114T080000
DTEND;TZID=Asia/Kuala_Lumpur:20260131T170000
DTSTAMP:20260424T095732
CREATED:20260114T080148Z
LAST-MODIFIED:20260114T080152Z
UID:12356-1768377600-1769878800@pekanbelaga.nadi.my
SUMMARY:NADI X DILEA
DESCRIPTION:📚 Pendaftaran Guidance Tuition 2026 (Fasa Kedua) Kini Dibuka! \nTerbuka untuk pelajar Tingkatan 4 & 5 yang berminat meningkatkan prestasi akademik. \nTempat adalah terhad — daftar segera sebelum 31 Januari 2026! \n📍 Untuk maklumat lanjut & pendaftaran:\n📞 Admin NADI Pekan Belaga: 011-629 36067 \nMemperkasa Minda\, Membentuk Masa Depan ✨ \n 
URL:https://pekanbelaga.nadi.my/event/nadi-x-dilea-2/
END:VEVENT
BEGIN:VEVENT
DTSTART;TZID=Asia/Kuala_Lumpur:20260114T080000
DTEND;TZID=Asia/Kuala_Lumpur:20260122T170000
DTSTAMP:20260424T095732
CREATED:20260114T080320Z
LAST-MODIFIED:20260114T080320Z
UID:12360-1768377600-1769101200@pekanbelaga.nadi.my
SUMMARY:NADI CYBERSECURITY
DESCRIPTION:Siri Cyber Hygiene | Asas Keselamatan Siber \n🔐Jom tingkatkan kesedaran keselamatan digital! Belajar cara semak keselamatan aplikasi & kenal pasti Wi-Fi berbahaya. \n📅 22 Januari 2026 | ⏰ 3.00 – 4.00 PM\n👤 Terbuka kepada 17 tahun ke atas \n📞 Admin NADI Pekan Belaga: 011-629 36067 \n 
URL:https://pekanbelaga.nadi.my/event/nadi-cybersecurity/
END:VEVENT
BEGIN:VEVENT
DTSTART;TZID=Asia/Kuala_Lumpur:20260111T080000
DTEND;TZID=Asia/Kuala_Lumpur:20260130T170000
DTSTAMP:20260424T095732
CREATED:20260111T031350Z
LAST-MODIFIED:20260111T031350Z
UID:12344-1768118400-1769792400@pekanbelaga.nadi.my
SUMMARY:NADIPRENEUR EMPOWERHER 2026
DESCRIPTION:✨ NADIPRENEUR EMPOWERHER 2026 ✨ \nPeluang buat wanita usahawan menyerlah bersama NADI! \n💼💪Sertai pencarian Ikon Usahawan NADI 2026 dan tingkatkan perniagaan anda melalui latihan perancangan\, kewangan\, pemasaran & operasi. \n📌 Terbuka kepada warganegara Malaysia berumur 18–60 tahun\n📲 Imbas kod QR & daftar sekarang! \n📞 Admin NADI Pekan Belaga: 011-6293 6067 \n  \n     
URL:https://pekanbelaga.nadi.my/event/nadipreneur-empowerher-2026/
END:VEVENT
BEGIN:VEVENT
DTSTART;TZID=Asia/Kuala_Lumpur:20260107T080000
DTEND;TZID=Asia/Kuala_Lumpur:20260115T170000
DTSTAMP:20260424T095732
CREATED:20260107T041343Z
LAST-MODIFIED:20260107T041343Z
UID:12331-1767772800-1768496400@pekanbelaga.nadi.my
SUMMARY:NADI X CYBERSECURITY
DESCRIPTION:🔐 ANCAMAN SIBER DALAM DUNIA DIGITAL \nJom tingkatkan kesedaran keselamatan siber bersama NADI x Cybersecurity Lifelong Learning. \n🗓️ 15 Januari 2026\n⏰ 3.00 petang – 4.30 petang\n📍 NADI Pekan Belaga \n✅ Terbuka kepada ahli NADI \n📞 Untuk maklumat & pendaftaran:Admin NADI Pekan Belaga – 011-6293 6067 \n 
URL:https://pekanbelaga.nadi.my/event/nadi-x-cybersecurity-3/
END:VEVENT
BEGIN:VEVENT
DTSTART;TZID=Asia/Kuala_Lumpur:20260107T080000
DTEND;TZID=Asia/Kuala_Lumpur:20260111T170000
DTSTAMP:20260424T095732
CREATED:20260107T041529Z
LAST-MODIFIED:20260107T041529Z
UID:12339-1767772800-1768150800@pekanbelaga.nadi.my
SUMMARY:JADUAL AKTIVITI
DESCRIPTION:📣 Hai semua!Jom sertai Event / Program NADI Week 1 (08 – 11 Januari 2026) 🎉 \nBanyak aktiviti best menanti korang — DILEA\, E-Sport Awareness\, Wellbeing\, Mahir & Kidventure.Belajar sambil santai\, sesuai untuk semua lapisan komuniti 😄 \n📍 NADI Pekan Belaga \n📲 Nak tanya atau daftar?WhatsApp Admin NADI Pekan Belaga: 011-6293 6067 \n 
URL:https://pekanbelaga.nadi.my/event/jadual-aktiviti/
END:VEVENT
BEGIN:VEVENT
DTSTART;TZID=Asia/Kuala_Lumpur:20260107T080000
DTEND;TZID=Asia/Kuala_Lumpur:20260109T170000
DTSTAMP:20260424T095732
CREATED:20260107T041220Z
LAST-MODIFIED:20260107T041220Z
UID:12329-1767772800-1767978000@pekanbelaga.nadi.my
SUMMARY:NADI MAHIR
DESCRIPTION:📣 Forum Mahir Bersama Komuniti \nJom belajar dan kongsi kemahiran bersama komuniti!Pelbagai topik menarik seperti pertanian pintar\, jahit\, foto\, baiki gajet & masak 🌱📸🔧 \n🗓 9 Januari 2026⏰ 10.00 pagi – 11.30 pagi📍 Zon Borneo (Sabah\, Sarawak & Labuan) \n📲 Untuk maklumat lanjut & pendaftaran:Admin NADI Pekan Belaga – 011-6293 6067 \n 
URL:https://pekanbelaga.nadi.my/event/nadi-mahir-4/
END:VEVENT
BEGIN:VEVENT
DTSTART;TZID=Asia/Kuala_Lumpur:20251229T080000
DTEND;TZID=Asia/Kuala_Lumpur:20251229T170000
DTSTAMP:20260424T095732
CREATED:20251222T061441Z
LAST-MODIFIED:20251222T061445Z
UID:12281-1766995200-1767027600@pekanbelaga.nadi.my
SUMMARY:📚💻 PROGRAM CUTI SEKOLAH NADI 2025 💻
DESCRIPTION:📚💻 PROGRAM CUTI SEKOLAH NADI 2025 💻 \n📚BERSAMA NADI eKelas \nJadikan cuti sekolah lebih bermakna dengan pembelajaran digital yang menyeronokkan! 🌟NADI Pekan Belaga menjemput pelajar dan belia untuk menyertai Program Cuti Sekolah NADI bersama NADI eKelas\, yang menyediakan aktiviti pembelajaran interaktif bagi meningkatkan kefahaman dan kemahiran akademik. \n📅 Tarikh:🗓️ 22 – 29 Disember 2025\n📍 Tempat:NADI Pekan Belaga \n📌 Aktiviti yang diadakan:Seperti yang tertera di dalam poster. \n🎯 Program ini bertujuan membantu peserta mengisi cuti sekolah dengan ilmu bermanfaat serta persediaan awal untuk sesi persekolahan yang akan datang. \n📲 Penyertaan adalah terhad!Untuk maklumat lanjut & pendaftaran\, sila hubungi:📞 Admin NADI Pekan Belaga: 011-6293 6067 \nAyuh sertai kami dan manfaatkan cuti sekolah anda bersama NADI! ✨📖 \n#NADIPekanBelaga#CutiSekolahNADI#NADIeKelas#PembelajaranDigital#AktivitiCutiSekolah \n  \n                           
URL:https://pekanbelaga.nadi.my/event/%f0%9f%93%9a%f0%9f%92%bb-program-cuti-sekolah-nadi-2025-%f0%9f%92%bb/
END:VEVENT
BEGIN:VEVENT
DTSTART;TZID=Asia/Kuala_Lumpur:20251222T080000
DTEND;TZID=Asia/Kuala_Lumpur:20260112T170000
DTSTAMP:20260424T095732
CREATED:20251222T055859Z
LAST-MODIFIED:20251222T055940Z
UID:12252-1766390400-1768237200@pekanbelaga.nadi.my
SUMMARY:🔥 JOM SERTAI NADI MAHIR – MUSIM KE-3! 🔥
DESCRIPTION:🔥 JOM SERTAI NADI MAHIR – MUSIM KE-3! 🔥 \nNak tambah kemahiran\, jana peluang baharu dan belajar secara PERCUMA? Inilah masanya! \n✨ NADI MAHIR MUSIM KE-3 menawarkan kursus praktikal dalam bidang: \n🔧 Mahir Baiki Gajet\n📸 Mahir Foto\n🍳 Mahir Masak\n🧵 Mahir Jahit\n🌱 Mahir Pertanian Pintar \n🎓 KEISTIMEWAAN UNTUK PESERTA:\n✅ Kelas percuma✅\nPeralatan disediakan\n✅ Sijil & kit diberikan kepada peserta yang berjaya menamatkan kursus \n🗓 Pendaftaran bermula: 22 Disember 2025🚀 Kelas Intake 3 bermula: 12 Januari 2025 \n📍Tempat: NADI Pekan Belaga \n📞 Untuk maklumat & pendaftaran:Admin NADI Pekan Belaga – 011-6293 6067 \n📣 Tempat adalah terhad! Jangan lepaskan peluang untuk jadi MAHIR bersama NADI. \n#NADIMahir #Musim3 #NADIPekanBelaga #KelasPercuma #KemahiranUntukMasaDepan \n  \n   
URL:https://pekanbelaga.nadi.my/event/%f0%9f%94%a5-jom-sertai-nadi-mahir-musim-ke-3-%f0%9f%94%a5/
END:VEVENT
BEGIN:VEVENT
DTSTART;TZID=Asia/Kuala_Lumpur:20251222T080000
DTEND;TZID=Asia/Kuala_Lumpur:20251229T170000
DTSTAMP:20260424T095732
CREATED:20251222T062045Z
LAST-MODIFIED:20251222T062045Z
UID:12307-1766390400-1767027600@pekanbelaga.nadi.my
SUMMARY:💪🧘 PROGRAM CUTI SEKOLAH NADI 2025 🧘
DESCRIPTION:💪🧘 PROGRAM CUTI SEKOLAH NADI 2025 🧘 \n💪BERSAMA STUDIO SIHAT \nCuti sekolah bukan sahaja untuk berehat\, malah masa terbaik untuk kekal aktif dan sihat! \n🌿✨NADI Pekan Belaga dengan kerjasama Studio Sihat menjemput pelajar\, belia dan komuniti setempat untuk menyertai Program Cuti Sekolah NADI\, yang menumpukan kepada kesihatan fizikal dan gaya hidup sihat melalui aktiviti bermanfaat. \n📍 Tempat:NADI Pekan Belaga\n📌 Aktiviti yang diadakan:Seperti yang tertera di dalam poster. \n🎯 Program ini bertujuan menggalakkan gaya hidup sihat\, meningkatkan kecergasan serta kesejahteraan minda dan tubuh sepanjang cuti sekolah. \n📲 Penyertaan adalah terhad!Untuk maklumat lanjut & pendaftaran\, sila hubungi:\n📞 Admin NADI Pekan Belaga: 011-6293 6067 \nAyuh isi cuti sekolah dengan aktiviti sihat dan positif bersama NADI & Studio Sihat! 🌟💚 \n#NADIPekanBelaga#CutiSekolahNADI#StudioSihat#GayaHidupSihat#AktivitiCutiSekolah \n 
URL:https://pekanbelaga.nadi.my/event/%f0%9f%92%aa%f0%9f%a7%98-program-cuti-sekolah-nadi-2025-%f0%9f%a7%98/
END:VEVENT
BEGIN:VEVENT
DTSTART;TZID=Asia/Kuala_Lumpur:20251222T080000
DTEND;TZID=Asia/Kuala_Lumpur:20251229T170000
DTSTAMP:20260424T095732
CREATED:20251222T061922Z
LAST-MODIFIED:20251222T061924Z
UID:12303-1766390400-1767027600@pekanbelaga.nadi.my
SUMMARY:🧠🎮 PROGRAM CUTI SEKOLAH NADI 2025 🎮
DESCRIPTION:🧠🎮 PROGRAM CUTI SEKOLAH NADI 2025 🎮 \n🧠BERSAMA NADI TINY TECHIES\nKuiz: Tonton • Belajar • Bermain \nCuti sekolah jadi lebih seronok dan bermakna! \n🌈✨NADI Pekan Belaga menjemput kanak-kanak dan pelajar menyertai Program Cuti Sekolah NADI bersama NADI Tiny Techies\, yang menggabungkan pembelajaran digital melalui tontonan\, aktiviti interaktif dan kuiz yang menyeronokkan. \n📅 Tarikh:🗓️ 22 – 29 Disember 2025\n📍 Tempat:NADI Pekan Belaga \n📌 Aktiviti yang diadakan:Seperti yang tertera di dalam poster. \n🎯 Program ini direka khas untuk merangsang minat teknologi\, meningkatkan pemahaman digital serta pembelajaran secara santai dan menyeronokkan. \n📲 Penyertaan adalah terhad!Untuk maklumat lanjut & pendaftaran\, sila hubungi:\n📞 Admin NADI Pekan Belaga: 011-6293 6067 \nJom sertai keseronokan belajar sambil bermain bersama NADI Tiny Techies! 🚀🤖 \n#NADIPekanBelaga#CutiSekolahNADI#NADITinyTechies#BelajarSambilBermain#AktivitiCutiSekolah \n 
URL:https://pekanbelaga.nadi.my/event/%f0%9f%a7%a0%f0%9f%8e%ae-program-cuti-sekolah-nadi-2025-%f0%9f%8e%ae/
END:VEVENT
BEGIN:VEVENT
DTSTART;TZID=Asia/Kuala_Lumpur:20251222T080000
DTEND;TZID=Asia/Kuala_Lumpur:20251229T170000
DTSTAMP:20260424T095732
CREATED:20251222T060531Z
LAST-MODIFIED:20251222T060546Z
UID:12264-1766390400-1767027600@pekanbelaga.nadi.my
SUMMARY:🛡️💻 PROGRAM CUTI SEKOLAH NADI 2025 💻🛡️NADI CYBERSECURITY | SIRI EDUSIBER
DESCRIPTION:🛡️💻 PROGRAM CUTI SEKOLAH NADI 2025 💻🛡️NADI CYBERSECURITY | SIRI EDUSIBER \nManfaatkan cuti sekolah dengan ilmu keselamatan siber! \n🔐✨NADI Pekan Belaga dengan kerjasama NADI Cybersecurity membawakan Siri EduSiber\, khas untuk meningkatkan kesedaran dan pengetahuan peserta tentang ancaman siber serta penggunaan internet secara selamat dan berhemah. \n📅 Tarikh:🗓️ 22 – 29 Disember 2025\n📍 Tempat:NADI Pekan Belaga\n📌 Aktiviti yang diadakan:Seperti yang tertera di dalam poster. \n🎯 Program ini sesuai untuk pelajar\, belia dan komuniti yang ingin lebih peka terhadap isu keselamatan siber dalam dunia digital masa kini. \n📲 Penyertaan adalah terhad!Untuk maklumat lanjut & pendaftaran\, hubungi:📞 Admin NADI Pekan Belaga: 011-6293 6067 \nJom isi cuti sekolah dengan ilmu\, kesedaran dan keselamatan digital bersama NADI! 💡🌐 \n#NADIPekanBelaga#CutiSekolahNADI#NADICybersecurity#SiriEduSiber#KeselamatanSiber \n 
URL:https://pekanbelaga.nadi.my/event/%f0%9f%9b%a1%ef%b8%8f%f0%9f%92%bb-program-cuti-sekolah-nadi-2025-%f0%9f%92%bb%f0%9f%9b%a1%ef%b8%8fnadi-cybersecurity-siri-edusiber/
END:VEVENT
END:VCALENDAR